{
 "currentVersion": 11.2,
 "cimVersion": "3.2.0",
 "serviceDescription": "20241104_v1",
 "mapName": "Layers",
 "description": "20241104_v1",
 "copyrightText": "GKÚ",
 "supportsDynamicLayers": true,
 "layers": [
  {
   "id": 0,
   "name": "Prehľad lokalít z 2. cyklu LLS a DMR 6.0",
   "parentLayerId": -1,
   "defaultVisibility": true,
   "subLayerIds": null,
   "minScale": 0,
   "maxScale": 0,
   "type": "Feature Layer",
   "geometryType": "esriGeometryPolygon",
   "supportsDynamicLegends": true
  },
  {
   "id": 1,
   "name": "Digitálny model reliéfu 6.0",
   "parentLayerId": -1,
   "defaultVisibility": true,
   "subLayerIds": [
    2,
    3
   ],
   "minScale": 0,
   "maxScale": 0,
   "type": "Group Layer",
   "supportsDynamicLegends": false
  },
  {
   "id": 2,
   "name": "DMR 6.0 Tieňovaný reliéf",
   "parentLayerId": 1,
   "defaultVisibility": true,
   "subLayerIds": null,
   "minScale": 0,
   "maxScale": 0,
   "type": "Raster Layer",
   "supportsDynamicLegends": true
  },
  {
   "id": 3,
   "name": "DMR 6.0",
   "parentLayerId": 1,
   "defaultVisibility": true,
   "subLayerIds": null,
   "minScale": 0,
   "maxScale": 0,
   "type": "Raster Layer",
   "supportsDynamicLegends": true
  }
 ],
 "tables": [],
 "spatialReference": {
  "wkid": 102100,
  "latestWkid": 3857,
  "xyTolerance": 0.001,
  "zTolerance": 0.001,
  "mTolerance": 0.001,
  "falseX": -20037700,
  "falseY": -30241100,
  "xyUnits": 10000,
  "falseZ": -100000,
  "zUnits": 10000,
  "falseM": -100000,
  "mUnits": 10000
 },
 "singleFusedMapCache": true,
 "tileInfo": {
  "rows": 256,
  "cols": 256,
  "dpi": 96,
  "format": "Mixed",
  "compressionQuality": 80,
  "origin": {
   "x": -2.0037508342787E7,
   "y": 2.0037508342787E7
  },
  "spatialReference": {
   "wkid": 102100,
   "latestWkid": 3857,
   "xyTolerance": 0.001,
   "zTolerance": 0.001,
   "mTolerance": 0.001,
   "falseX": -20037700,
   "falseY": -30241100,
   "xyUnits": 1.4892314192838538E8,
   "falseZ": -100000,
   "zUnits": 10000,
   "falseM": -100000,
   "mUnits": 10000
  },
  "lods": [
   {
    "level": 0,
    "resolution": 156543.033928,
    "scale": 5.91657527591555E8
   },
   {
    "level": 1,
    "resolution": 78271.5169639999,
    "scale": 2.95828763795777E8
   },
   {
    "level": 2,
    "resolution": 39135.7584820001,
    "scale": 1.47914381897889E8
   },
   {
    "level": 3,
    "resolution": 19567.8792409999,
    "scale": 7.3957190948944E7
   },
   {
    "level": 4,
    "resolution": 9783.93962049996,
    "scale": 3.6978595474472E7
   },
   {
    "level": 5,
    "resolution": 4891.96981024998,
    "scale": 1.8489297737236E7
   },
   {
    "level": 6,
    "resolution": 2445.98490512499,
    "scale": 9244648.868618
   },
   {
    "level": 7,
    "resolution": 1222.99245256249,
    "scale": 4622324.434309
   },
   {
    "level": 8,
    "resolution": 611.49622628138,
    "scale": 2311162.217155
   },
   {
    "level": 9,
    "resolution": 305.748113140558,
    "scale": 1155581.108577
   },
   {
    "level": 10,
    "resolution": 152.874056570411,
    "scale": 577790.554289
   },
   {
    "level": 11,
    "resolution": 76.4370282850732,
    "scale": 288895.277144
   },
   {
    "level": 12,
    "resolution": 38.2185141425366,
    "scale": 144447.638572
   },
   {
    "level": 13,
    "resolution": 19.1092570712683,
    "scale": 72223.819286
   },
   {
    "level": 14,
    "resolution": 9.55462853563415,
    "scale": 36111.909643
   },
   {
    "level": 15,
    "resolution": 4.77731426794937,
    "scale": 18055.954822
   },
   {
    "level": 16,
    "resolution": 2.38865713397468,
    "scale": 9027.977411
   },
   {
    "level": 17,
    "resolution": 1.19432856685505,
    "scale": 4513.988705
   },
   {
    "level": 18,
    "resolution": 0.597164283559817,
    "scale": 2256.994353
   },
   {
    "level": 19,
    "resolution": 0.298582141647617,
    "scale": 1128.497176
   },
   {
    "level": 20,
    "resolution": 0.14929107082380833,
    "scale": 564.248588
   },
   {
    "level": 21,
    "resolution": 0.07464553541190416,
    "scale": 282.124294
   },
   {
    "level": 22,
    "resolution": 0.03732276770595208,
    "scale": 141.062147
   },
   {
    "level": 23,
    "resolution": 0.01866138385297604,
    "scale": 70.5310735
   }
  ]
 },
 "storageInfo": {
  "storageFormat": "esriMapCacheStorageModeCompactV2",
  "packetSize": 128
 },
 "initialExtent": {
  "xmin": 1886337.8014055423,
  "ymin": 5937726.853279359,
  "xmax": 2502725.997497173,
  "ymax": 6442211.239961497,
  "spatialReference": {
   "cs": "pcs",
   "wkid": 102100
  }
 },
 "fullExtent": {
  "xmin": 1854197.1910350602,
  "ymin": 6047659.70870122,
  "xmax": 2518214.701010881,
  "ymax": 6397341.4308484,
  "spatialReference": {
   "cs": "pcs",
   "wkid": 102100
  }
 },
 "datesInUnknownTimezone": false,
 "minScale": 4622324.434309,
 "maxScale": 1128.497176,
 "units": "esriMeters",
 "supportedImageFormatTypes": "PNG32,PNG24,PNG,JPG,DIB,TIFF,EMF,PS,PDF,GIF,SVG,SVGZ,BMP",
 "documentInfo": {
  "Title": "2. cyklus LLS a DMR 6.0",
  "Author": "",
  "Comments": "20241104_v1",
  "Subject": "Prehľad lokalít z 2. cyklu LLS a DMR 6.0, zobrazenie údajov DMR 6.0",
  "Category": "",
  "Version": "3.2.0",
  "AntialiasingMode": "Fast",
  "TextAntialiasingMode": "Force",
  "Keywords": "DMR,DMR 6.0,LLS"
 },
 "supportsQueryDomains": true,
 "capabilities": "Map,Query,Data",
 "supportedQueryFormats": "JSON, geoJSON, PBF",
 "exportTilesAllowed": false,
 "referenceScale": 0.0,
 "datumTransformations": [
  {
   "geoTransforms": [
    {
     "wkid": 8368,
     "latestWkid": 8368,
     "transformForward": true,
     "name": "S-JTSK_[JTSK03]_To_WGS_1984_1"
    }
   ]
  },
  {
   "geoTransforms": [
    {
     "wkid": 8368,
     "latestWkid": 8368,
     "transformForward": false,
     "name": "S-JTSK_[JTSK03]_To_WGS_1984_1"
    }
   ]
  },
  {
   "geoTransforms": [
    {
     "wkid": 8364,
     "latestWkid": 8364,
     "transformForward": false,
     "name": "S-JTSK_[JTSK03]_To_S-JTSK_1"
    },
    {
     "wkid": 8368,
     "latestWkid": 8368,
     "transformForward": true,
     "name": "S-JTSK_[JTSK03]_To_WGS_1984_1"
    }
   ]
  },
  {
   "geoTransforms": [
    {
     "wkid": 8368,
     "latestWkid": 8368,
     "transformForward": false,
     "name": "S-JTSK_[JTSK03]_To_WGS_1984_1"
    },
    {
     "wkid": 8364,
     "latestWkid": 8364,
     "transformForward": true,
     "name": "S-JTSK_[JTSK03]_To_S-JTSK_1"
    }
   ]
  },
  {
   "geoTransforms": [
    {
     "wkt2": "COORDINATEOPERATION[\"S-JTSK_[JTSK03]_raster_To_WGS84_UGKK_SR\",SOURCECRS[GEOGCRS[\"GCS_S_JTSK_JTSK03\",DATUM[\"D_S_JTSK_JTSK03\",ELLIPSOID[\"Bessel_1841\",6377397.155,299.1528128,LENGTHUNIT[\"Meter\",1.0]]],PRIMEM[\"Greenwich\",0.0,ANGLEUNIT[\"Degree\",0.0174532925199433]],CS[ellipsoidal,2],ANGLEUNIT[\"Degree\",0.0174532925199433]]],TARGETCRS[GEOGCRS[\"GCS_WGS_1984\",DATUM[\"D_WGS_1984\",ELLIPSOID[\"WGS_1984\",6378137.0,298.257223563,LENGTHUNIT[\"Meter\",1.0]]],PRIMEM[\"Greenwich\",0.0,ANGLEUNIT[\"Degree\",0.0174532925199433]],CS[ellipsoidal,2],ANGLEUNIT[\"Degree\",0.0174532925199433]]],METHOD[\"Coordinate_Frame\"],PARAMETER[\"X_Axis_Translation\",485.021,LENGTHUNIT[\"Meter\",1.0]],PARAMETER[\"Y_Axis_Translation\",169.465,LENGTHUNIT[\"Meter\",1.0]],PARAMETER[\"Z_Axis_Translation\",483.839,LENGTHUNIT[\"Meter\",1.0]],PARAMETER[\"X_Axis_Rotation\",-7.786342,ANGLEUNIT[\"Arcsecond\",0.00000484813681109536]],PARAMETER[\"Y_Axis_Rotation\",-4.397554,ANGLEUNIT[\"Arcsecond\",0.00000484813681109536]],PARAMETER[\"Z_Axis_Rotation\",-4.102655,ANGLEUNIT[\"Arcsecond\",0.00000484813681109536]],PARAMETER[\"Scale_Difference\",0.0,SCALEUNIT[\"Parts_Per_Million\",0.000001]]]",
     "wkt": "GEOGTRAN[\"S-JTSK_[JTSK03]_raster_To_WGS84_UGKK_SR\",GEOGCS[\"GCS_S_JTSK_JTSK03\",DATUM[\"D_S_JTSK_JTSK03\",SPHEROID[\"Bessel_1841\",6377397.155,299.1528128]],PRIMEM[\"Greenwich\",0.0],UNIT[\"Degree\",0.0174532925199433]],GEOGCS[\"GCS_WGS_1984\",DATUM[\"D_WGS_1984\",SPHEROID[\"WGS_1984\",6378137.0,298.257223563]],PRIMEM[\"Greenwich\",0.0],UNIT[\"Degree\",0.0174532925199433]],METHOD[\"Coordinate_Frame\"],PARAMETER[\"X_Axis_Translation\",485.021],PARAMETER[\"Y_Axis_Translation\",169.465],PARAMETER[\"Z_Axis_Translation\",483.839],PARAMETER[\"X_Axis_Rotation\",-7.786342],PARAMETER[\"Y_Axis_Rotation\",-4.397554],PARAMETER[\"Z_Axis_Rotation\",-4.102655],PARAMETER[\"Scale_Difference\",0.0]]",
     "transformForward": true,
     "name": "S-JTSK_[JTSK03]_raster_To_WGS84_UGKK_SR"
    }
   ]
  },
  {
   "geoTransforms": [
    {
     "wkt2": "COORDINATEOPERATION[\"S-JTSK_[JTSK03]_raster_To_WGS84_UGKK_SR\",SOURCECRS[GEOGCRS[\"GCS_S_JTSK_JTSK03\",DATUM[\"D_S_JTSK_JTSK03\",ELLIPSOID[\"Bessel_1841\",6377397.155,299.1528128,LENGTHUNIT[\"Meter\",1.0]]],PRIMEM[\"Greenwich\",0.0,ANGLEUNIT[\"Degree\",0.0174532925199433]],CS[ellipsoidal,2],ANGLEUNIT[\"Degree\",0.0174532925199433]]],TARGETCRS[GEOGCRS[\"GCS_WGS_1984\",DATUM[\"D_WGS_1984\",ELLIPSOID[\"WGS_1984\",6378137.0,298.257223563,LENGTHUNIT[\"Meter\",1.0]]],PRIMEM[\"Greenwich\",0.0,ANGLEUNIT[\"Degree\",0.0174532925199433]],CS[ellipsoidal,2],ANGLEUNIT[\"Degree\",0.0174532925199433]]],METHOD[\"Coordinate_Frame\"],PARAMETER[\"X_Axis_Translation\",485.021,LENGTHUNIT[\"Meter\",1.0]],PARAMETER[\"Y_Axis_Translation\",169.465,LENGTHUNIT[\"Meter\",1.0]],PARAMETER[\"Z_Axis_Translation\",483.839,LENGTHUNIT[\"Meter\",1.0]],PARAMETER[\"X_Axis_Rotation\",-7.786342,ANGLEUNIT[\"Arcsecond\",0.00000484813681109536]],PARAMETER[\"Y_Axis_Rotation\",-4.397554,ANGLEUNIT[\"Arcsecond\",0.00000484813681109536]],PARAMETER[\"Z_Axis_Rotation\",-4.102655,ANGLEUNIT[\"Arcsecond\",0.00000484813681109536]],PARAMETER[\"Scale_Difference\",0.0,SCALEUNIT[\"Parts_Per_Million\",0.000001]]]",
     "wkt": "GEOGTRAN[\"S-JTSK_[JTSK03]_raster_To_WGS84_UGKK_SR\",GEOGCS[\"GCS_S_JTSK_JTSK03\",DATUM[\"D_S_JTSK_JTSK03\",SPHEROID[\"Bessel_1841\",6377397.155,299.1528128]],PRIMEM[\"Greenwich\",0.0],UNIT[\"Degree\",0.0174532925199433]],GEOGCS[\"GCS_WGS_1984\",DATUM[\"D_WGS_1984\",SPHEROID[\"WGS_1984\",6378137.0,298.257223563]],PRIMEM[\"Greenwich\",0.0],UNIT[\"Degree\",0.0174532925199433]],METHOD[\"Coordinate_Frame\"],PARAMETER[\"X_Axis_Translation\",485.021],PARAMETER[\"Y_Axis_Translation\",169.465],PARAMETER[\"Z_Axis_Translation\",483.839],PARAMETER[\"X_Axis_Rotation\",-7.786342],PARAMETER[\"Y_Axis_Rotation\",-4.397554],PARAMETER[\"Z_Axis_Rotation\",-4.102655],PARAMETER[\"Scale_Difference\",0.0]]",
     "transformForward": false,
     "name": "S-JTSK_[JTSK03]_raster_To_WGS84_UGKK_SR"
    }
   ]
  }
 ],
 "supportsDatumTransformation": true,
 "archivingInfo": {
  "supportsHistoricMoment": false
 },
 "supportsClipping": true,
 "supportsSpatialFilter": true,
 "supportsTimeRelation": true,
 "supportsQueryDataElements": true,
 "mapUnits": {
  "uwkid": 9001
 },
 "maxRecordCount": 2000,
 "maxImageHeight": 4096,
 "maxImageWidth": 4096,
 "supportedExtensions": "",
 "resampling": false
}
