{
 "currentVersion": 11.2,
 "cimVersion": "3.2.0",
 "serviceDescription": "Územnosprávne usporiadanie Slovenskej republiky.Služba slúži aj na rýchlu navigáciu v mape, tzv. breadcrumbs.",
 "mapName": "Layers",
 "description": "20220406_v3",
 "copyrightText": "GKÚ, ŠÚSR",
 "supportsDynamicLayers": false,
 "layers": [
  {
   "id": 0,
   "name": "Slovenská republika",
   "parentLayerId": -1,
   "defaultVisibility": true,
   "subLayerIds": null,
   "minScale": 0,
   "maxScale": 0,
   "type": "Feature Layer",
   "geometryType": "esriGeometryPolygon",
   "supportsDynamicLegends": true
  },
  {
   "id": 1,
   "name": "Kraj",
   "parentLayerId": -1,
   "defaultVisibility": true,
   "subLayerIds": null,
   "minScale": 0,
   "maxScale": 0,
   "type": "Feature Layer",
   "geometryType": "esriGeometryPolygon",
   "supportsDynamicLegends": true
  },
  {
   "id": 2,
   "name": "Okres",
   "parentLayerId": -1,
   "defaultVisibility": true,
   "subLayerIds": null,
   "minScale": 1733375,
   "maxScale": 0,
   "type": "Feature Layer",
   "geometryType": "esriGeometryPolygon",
   "supportsDynamicLegends": true
  },
  {
   "id": 3,
   "name": "Obec",
   "parentLayerId": -1,
   "defaultVisibility": true,
   "subLayerIds": null,
   "minScale": 433343,
   "maxScale": 0,
   "type": "Feature Layer",
   "geometryType": "esriGeometryPolygon",
   "supportsDynamicLegends": true
  },
  {
   "id": 4,
   "name": "Katastrálne územie",
   "parentLayerId": -1,
   "defaultVisibility": true,
   "subLayerIds": null,
   "minScale": 288896,
   "maxScale": 0,
   "type": "Feature Layer",
   "geometryType": "esriGeometryPolygon",
   "supportsDynamicLegends": true
  }
 ],
 "tables": [],
 "spatialReference": {
  "wkid": 102100,
  "latestWkid": 3857,
  "xyTolerance": 0.001,
  "zTolerance": 0.001,
  "mTolerance": 0.001,
  "falseX": -20037700,
  "falseY": -30241100,
  "xyUnits": 10000,
  "falseZ": -100000,
  "zUnits": 10000,
  "falseM": -100000,
  "mUnits": 10000
 },
 "singleFusedMapCache": true,
 "tileInfo": {
  "rows": 256,
  "cols": 256,
  "dpi": 96,
  "format": "PNG32",
  "compressionQuality": 0,
  "origin": {
   "x": -2.0037508342787E7,
   "y": 2.0037508342787E7
  },
  "spatialReference": {
   "wkid": 102100,
   "latestWkid": 3857,
   "xyTolerance": 0.001,
   "zTolerance": 0.001,
   "mTolerance": 0.001,
   "falseX": -20037700,
   "falseY": -30241100,
   "xyUnits": 1.4892314192838538E8,
   "falseZ": -100000,
   "zUnits": 10000,
   "falseM": -100000,
   "mUnits": 10000
  },
  "lods": [
   {
    "level": 0,
    "resolution": 156543.03392800014,
    "scale": 5.91657527591555E8
   },
   {
    "level": 1,
    "resolution": 78271.51696399994,
    "scale": 2.95828763795777E8
   },
   {
    "level": 2,
    "resolution": 39135.75848200009,
    "scale": 1.47914381897889E8
   },
   {
    "level": 3,
    "resolution": 19567.87924099992,
    "scale": 7.3957190948944E7
   },
   {
    "level": 4,
    "resolution": 9783.93962049996,
    "scale": 3.6978595474472E7
   },
   {
    "level": 5,
    "resolution": 4891.96981024998,
    "scale": 1.8489297737236E7
   },
   {
    "level": 6,
    "resolution": 2445.98490512499,
    "scale": 9244648.868618
   },
   {
    "level": 7,
    "resolution": 1222.992452562495,
    "scale": 4622324.434309
   },
   {
    "level": 8,
    "resolution": 611.4962262813797,
    "scale": 2311162.217155
   },
   {
    "level": 9,
    "resolution": 305.74811314055756,
    "scale": 1155581.108577
   },
   {
    "level": 10,
    "resolution": 152.87405657041106,
    "scale": 577790.554289
   },
   {
    "level": 11,
    "resolution": 76.43702828507324,
    "scale": 288895.277144
   },
   {
    "level": 12,
    "resolution": 38.21851414253662,
    "scale": 144447.638572
   },
   {
    "level": 13,
    "resolution": 19.10925707126831,
    "scale": 72223.819286
   },
   {
    "level": 14,
    "resolution": 9.554628535634155,
    "scale": 36111.909643
   },
   {
    "level": 15,
    "resolution": 4.77731426794937,
    "scale": 18055.954822
   },
   {
    "level": 16,
    "resolution": 2.388657133974685,
    "scale": 9027.977411
   },
   {
    "level": 17,
    "resolution": 1.1943285668550503,
    "scale": 4513.988705
   },
   {
    "level": 18,
    "resolution": 0.5971642835598172,
    "scale": 2256.994353
   },
   {
    "level": 19,
    "resolution": 0.29858214164761665,
    "scale": 1128.497176
   },
   {
    "level": 20,
    "resolution": 0.14929107082380833,
    "scale": 564.248588
   },
   {
    "level": 21,
    "resolution": 0.07464553541190416,
    "scale": 282.124294
   },
   {
    "level": 22,
    "resolution": 0.03732276770595208,
    "scale": 141.062147
   },
   {
    "level": 23,
    "resolution": 0.01866138385297604,
    "scale": 70.5310735
   }
  ]
 },
 "storageInfo": {
  "storageFormat": "esriMapCacheStorageModeCompactV2",
  "packetSize": 128
 },
 "initialExtent": {
  "xmin": 2306601.0855479958,
  "ymin": 6270717.351292285,
  "xmax": 2333404.0074689863,
  "ymax": 6283192.3954699645,
  "spatialReference": {
   "wkid": 102100,
   "latestWkid": 3857,
   "xyTolerance": 0.001,
   "zTolerance": 0.001,
   "mTolerance": 0.001,
   "falseX": -20037700,
   "falseY": -30241100,
   "xyUnits": 10000,
   "falseZ": -100000,
   "zUnits": 10000,
   "falseM": -100000,
   "mUnits": 10000
  }
 },
 "fullExtent": {
  "xmin": 1854790.4211451176,
  "ymin": 6048143.4089161055,
  "xmax": 2518050.496578195,
  "ymax": 6397014.246706925,
  "spatialReference": {
   "wkid": 102100,
   "latestWkid": 3857,
   "xyTolerance": 0.001,
   "zTolerance": 0.001,
   "mTolerance": 0.001,
   "falseX": -20037700,
   "falseY": -30241100,
   "xyUnits": 10000,
   "falseZ": -100000,
   "zUnits": 10000,
   "falseM": -100000,
   "mUnits": 10000
  }
 },
 "datesInUnknownTimezone": false,
 "minScale": 4622324.434309,
 "maxScale": 1128.497176,
 "units": "esriMeters",
 "supportedImageFormatTypes": "PNG32,PNG24,PNG,JPG,DIB,TIFF,EMF,PS,PDF,GIF,SVG,SVGZ,BMP",
 "documentInfo": {
  "Title": "Layers",
  "Author": "",
  "Comments": "20220406_v3",
  "Subject": "ZBGIS, územnosprávne členenie, rýchla navigácia v mape (breadcrumbs)",
  "Category": "",
  "Version": "3.0.0",
  "AntialiasingMode": "Best",
  "TextAntialiasingMode": "Force",
  "Keywords": "ZBGIS,územnosprávne členenie"
 },
 "supportsQueryDomains": true,
 "capabilities": "Map,Query,Data",
 "supportedQueryFormats": "JSON, geoJSON, PBF",
 "exportTilesAllowed": false,
 "referenceScale": 0.0,
 "datumTransformations": [
  {
   "geoTransforms": [
    {
     "wkid": 108001,
     "latestWkid": 1241,
     "transformForward": true,
     "name": "NAD_1927_To_NAD_1983_NADCON"
    }
   ]
  },
  {
   "geoTransforms": [
    {
     "wkid": 108001,
     "latestWkid": 1241,
     "transformForward": false,
     "name": "NAD_1927_To_NAD_1983_NADCON"
    }
   ]
  },
  {
   "geoTransforms": [
    {
     "wkt2": "COORDINATEOPERATION[\"JTSK03_to_ETRS89\",SOURCECRS[GEOGCRS[\"GCS_S_JTSK03\",DATUM[\"D_S_JTSK\",ELLIPSOID[\"Bessel_1841\",6377397.155,299.1528128,LENGTHUNIT[\"Meter\",1.0]]],PRIMEM[\"Greenwich\",0.0,ANGLEUNIT[\"Degree\",0.0174532925199433]],CS[ellipsoidal,2],ANGLEUNIT[\"Degree\",0.0174532925199433]]],TARGETCRS[GEOGCRS[\"GCS_ETRS_1989\",DATUM[\"D_ETRS_1989\",ELLIPSOID[\"GRS_1980\",6378137.0,298.257222101,LENGTHUNIT[\"Meter\",1.0]]],PRIMEM[\"Greenwich\",0.0,ANGLEUNIT[\"Degree\",0.0174532925199433]],CS[ellipsoidal,2],ANGLEUNIT[\"Degree\",0.0174532925199433]]],METHOD[\"Coordinate_Frame\"],PARAMETER[\"X_Axis_Translation\",485.021,LENGTHUNIT[\"Meter\",1.0]],PARAMETER[\"Y_Axis_Translation\",169.465,LENGTHUNIT[\"Meter\",1.0]],PARAMETER[\"Z_Axis_Translation\",483.839,LENGTHUNIT[\"Meter\",1.0]],PARAMETER[\"X_Axis_Rotation\",-7.786342,ANGLEUNIT[\"Arcsecond\",0.00000484813681109536]],PARAMETER[\"Y_Axis_Rotation\",-4.397554,ANGLEUNIT[\"Arcsecond\",0.00000484813681109536]],PARAMETER[\"Z_Axis_Rotation\",-4.102655,ANGLEUNIT[\"Arcsecond\",0.00000484813681109536]],PARAMETER[\"Scale_Difference\",0.0,SCALEUNIT[\"Parts_Per_Million\",0.000001]]]",
     "wkt": "GEOGTRAN[\"JTSK03_to_ETRS89\",GEOGCS[\"GCS_S_JTSK03\",DATUM[\"D_S_JTSK\",SPHEROID[\"Bessel_1841\",6377397.155,299.1528128]],PRIMEM[\"Greenwich\",0.0],UNIT[\"Degree\",0.0174532925199433]],GEOGCS[\"GCS_ETRS_1989\",DATUM[\"D_ETRS_1989\",SPHEROID[\"GRS_1980\",6378137.0,298.257222101]],PRIMEM[\"Greenwich\",0.0],UNIT[\"Degree\",0.0174532925199433]],METHOD[\"Coordinate_Frame\"],PARAMETER[\"X_Axis_Translation\",485.021],PARAMETER[\"Y_Axis_Translation\",169.465],PARAMETER[\"Z_Axis_Translation\",483.839],PARAMETER[\"X_Axis_Rotation\",-7.786342],PARAMETER[\"Y_Axis_Rotation\",-4.397554],PARAMETER[\"Z_Axis_Rotation\",-4.102655],PARAMETER[\"Scale_Difference\",0.0]]",
     "transformForward": true,
     "name": "JTSK03_to_ETRS89"
    }
   ]
  },
  {
   "geoTransforms": [
    {
     "wkt2": "COORDINATEOPERATION[\"JTSK03_to_ETRS89\",SOURCECRS[GEOGCRS[\"GCS_S_JTSK03\",DATUM[\"D_S_JTSK\",ELLIPSOID[\"Bessel_1841\",6377397.155,299.1528128,LENGTHUNIT[\"Meter\",1.0]]],PRIMEM[\"Greenwich\",0.0,ANGLEUNIT[\"Degree\",0.0174532925199433]],CS[ellipsoidal,2],ANGLEUNIT[\"Degree\",0.0174532925199433]]],TARGETCRS[GEOGCRS[\"GCS_ETRS_1989\",DATUM[\"D_ETRS_1989\",ELLIPSOID[\"GRS_1980\",6378137.0,298.257222101,LENGTHUNIT[\"Meter\",1.0]]],PRIMEM[\"Greenwich\",0.0,ANGLEUNIT[\"Degree\",0.0174532925199433]],CS[ellipsoidal,2],ANGLEUNIT[\"Degree\",0.0174532925199433]]],METHOD[\"Coordinate_Frame\"],PARAMETER[\"X_Axis_Translation\",485.021,LENGTHUNIT[\"Meter\",1.0]],PARAMETER[\"Y_Axis_Translation\",169.465,LENGTHUNIT[\"Meter\",1.0]],PARAMETER[\"Z_Axis_Translation\",483.839,LENGTHUNIT[\"Meter\",1.0]],PARAMETER[\"X_Axis_Rotation\",-7.786342,ANGLEUNIT[\"Arcsecond\",0.00000484813681109536]],PARAMETER[\"Y_Axis_Rotation\",-4.397554,ANGLEUNIT[\"Arcsecond\",0.00000484813681109536]],PARAMETER[\"Z_Axis_Rotation\",-4.102655,ANGLEUNIT[\"Arcsecond\",0.00000484813681109536]],PARAMETER[\"Scale_Difference\",0.0,SCALEUNIT[\"Parts_Per_Million\",0.000001]]]",
     "wkt": "GEOGTRAN[\"JTSK03_to_ETRS89\",GEOGCS[\"GCS_S_JTSK03\",DATUM[\"D_S_JTSK\",SPHEROID[\"Bessel_1841\",6377397.155,299.1528128]],PRIMEM[\"Greenwich\",0.0],UNIT[\"Degree\",0.0174532925199433]],GEOGCS[\"GCS_ETRS_1989\",DATUM[\"D_ETRS_1989\",SPHEROID[\"GRS_1980\",6378137.0,298.257222101]],PRIMEM[\"Greenwich\",0.0],UNIT[\"Degree\",0.0174532925199433]],METHOD[\"Coordinate_Frame\"],PARAMETER[\"X_Axis_Translation\",485.021],PARAMETER[\"Y_Axis_Translation\",169.465],PARAMETER[\"Z_Axis_Translation\",483.839],PARAMETER[\"X_Axis_Rotation\",-7.786342],PARAMETER[\"Y_Axis_Rotation\",-4.397554],PARAMETER[\"Z_Axis_Rotation\",-4.102655],PARAMETER[\"Scale_Difference\",0.0]]",
     "transformForward": false,
     "name": "JTSK03_to_ETRS89"
    }
   ]
  },
  {
   "geoTransforms": [
    {
     "wkid": 108253,
     "latestWkid": 4836,
     "transformForward": true,
     "name": "S_JTSK_To_WGS_1984_4"
    }
   ]
  },
  {
   "geoTransforms": [
    {
     "wkid": 108253,
     "latestWkid": 4836,
     "transformForward": false,
     "name": "S_JTSK_To_WGS_1984_4"
    }
   ]
  }
 ],
 "supportsDatumTransformation": true,
 "archivingInfo": {
  "supportsHistoricMoment": false
 },
 "supportsClipping": true,
 "supportsSpatialFilter": true,
 "supportsTimeRelation": true,
 "supportsQueryDataElements": true,
 "mapUnits": {
  "uwkid": 9001
 },
 "maxRecordCount": 1000,
 "maxImageHeight": 4096,
 "maxImageWidth": 4096,
 "supportedExtensions": "",
 "resampling": false
}
