View In:
ArcGIS JavaScript
ArcGIS Online Map Viewer
ArcGIS Earth
ArcGIS Pro
Service Description: Reambulované mapové listy III. vojenského mapovania z rokov 1920 - 1934. Mapové listy poskytol mapový archív Vojenského topografického ústavu v Banskej Bystrici. Skenovanie zabezpečila Slovenská agentúra životného prostredia (SAŽP) v Banskej Bystrici. Mapové listy boli skenované na veľkoplošnom skeneri CONTEX MAGNUM XL54 s hustotou skenovania 400 DPI vo formáte TIFF. Celkový počet skenovaných mapových listov bol 236.
Map Name: Historické mapy
Legend
All Layers and Tables
Layers:
Description: Reambulované mapové listy III. vojenského mapovania z rokov 1920 - 1934. Mapové listy poskytol mapový archív Vojenského topografického ústavu v Banskej Bystrici. Skenovanie zabezpečila Slovenská agentúra životného prostredia (SAŽP) v Banskej Bystrici. Mapové listy boli skenované na veľkoplošnom skeneri CONTEX MAGNUM XL54 s hustotou skenovania 400 DPI vo formáte TIFF. Celkový počet skenovaných mapových listov bol 236.
Copyright Text: MO SR, Topografický ústav Banská Bystrica, Stavebná fakulta STU v Bratislave, GKÚ Bratislava
Spatial Reference:
102100
(3857)
Single Fused Map Cache: true
Tile Info:
- Height: 256
- Width: 256
- DPI: 96
-
Levels of Detail: 24
-
Level ID: 0
[ Start Tile, End Tile ]
- Resolution: 156543.03392800014
- Scale: 5.91657527591555E8
-
Level ID: 1
[ Start Tile, End Tile ]
- Resolution: 78271.51696399994
- Scale: 2.95828763795777E8
-
Level ID: 2
[ Start Tile, End Tile ]
- Resolution: 39135.75848200009
- Scale: 1.47914381897889E8
-
Level ID: 3
[ Start Tile, End Tile ]
- Resolution: 19567.87924099992
- Scale: 7.3957190948944E7
-
Level ID: 4
[ Start Tile, End Tile ]
- Resolution: 9783.93962049996
- Scale: 3.6978595474472E7
-
Level ID: 5
[ Start Tile, End Tile ]
- Resolution: 4891.96981024998
- Scale: 1.8489297737236E7
- Format: MIXED
- Compression Quality: 85.0
- Origin: X: -2.0037508342787E7
Y: 2.0037508342787E7
- Spatial Reference: 102100
(3857)
Storage Info:
- Storage Format: esriMapCacheStorageModeCompactV2
- Packet Size: 128
Initial Extent:
XMin: 1243513.6946354564
YMin: 5732617.729276638
XMax: 3228091.3537879772
YMax: 6656311.572990595
Spatial Reference: 102100
(3857)
Full Extent:
XMin: 1839240.3054822695
YMin: 6024246.1614355575
XMax: 2526554.978336015
YMax: 6416856.661429461
Spatial Reference: 102100
(3857)
Units: esriMeters
Supported Image Format Types: PNG32,PNG24,PNG,JPG,DIB,TIFF,EMF,PS,PDF,GIF,SVG,SVGZ,BMP
Document Info:
Title:
Author:
Comments: Reambulované mapové listy III. vojenského mapovania z rokov 1920 - 1934. Mapové listy poskytol mapový archív Vojenského topografického ústavu v Banskej Bystrici. Skenovanie zabezpečila Slovenská agentúra životného prostredia (SAŽP) v Banskej Bystrici. Mapové listy boli skenované na veľkoplošnom skeneri CONTEX MAGNUM XL54 s hustotou skenovania 400 DPI vo formáte TIFF. Celkový počet skenovaných mapových listov bol 236.
Subject: Mapy III. vojenského mapovania (1920 - 1934).
Category:
Keywords: historické mapy
AntialiasingMode: None
TextAntialiasingMode: Force
Supports Dynamic Layers: false
Resampling: false
MaxRecordCount: 1000
MaxImageHeight: 4096
MaxImageWidth: 4096
Supported Query Formats: JSON, geoJSON, PBF
Supports Query Data Elements: true
Min Scale: 4622324.434309
Max Scale: 4513.988705
Supports Datum Transformation: true
Child Resources:
Info
Supported Operations:
Export Map
Identify
QueryLegends
QueryDomains
Find
Return Updates