View In:
ArcGIS JavaScript
ArcGIS Online Map Viewer
ArcGIS Earth
ArcGIS Pro
Service Description: Podkladová mapa Ortofoto z ortofotomozaiky SR 2. cyklu (2020-2022). Zdroj údajov: Národné lesnícke centrum, Geodetický a kartografický ústav Bratislava.
Map Name: Ortofoto - 2. cyklus
Legend
All Layers and Tables
Layers:
Description:
Copyright Text: GKÚ, NLC
Spatial Reference:
102100
(3857)
Single Fused Map Cache: true
Tile Info:
- Height: 256
- Width: 256
- DPI: 96
-
Levels of Detail: 24
-
Level ID: 1
[ Start Tile, End Tile ]
- Resolution: 78271.5169639999
- Scale: 2.95828763795777E8
-
Level ID: 2
[ Start Tile, End Tile ]
- Resolution: 39135.7584820001
- Scale: 1.47914381897889E8
-
Level ID: 3
[ Start Tile, End Tile ]
- Resolution: 19567.8792409999
- Scale: 7.3957190948944E7
-
Level ID: 4
[ Start Tile, End Tile ]
- Resolution: 9783.93962049996
- Scale: 3.6978595474472E7
-
Level ID: 5
[ Start Tile, End Tile ]
- Resolution: 4891.96981024998
- Scale: 1.8489297737236E7
- Format: MIXED
- Compression Quality: 85.0
- Origin: X: -2.0037508342787E7
Y: 2.0037508342787E7
- Spatial Reference: 102100
(3857)
Storage Info:
- Storage Format: esriMapCacheStorageModeCompactV2
- Packet Size: 128
Initial Extent:
XMin: 1827111.907310748
YMin: 5978817.647999512
XMax: 2545305.9692445905
YMax: 6466202.778579043
Spatial Reference: 102100
(3857)
Full Extent:
XMin: 1860378.699705065
YMin: 5965454.799473455
XMax: 2523587.917899334
YMax: 6483011.298741379
Spatial Reference: 102100
(3857)
Units: esriMeters
Supported Image Format Types: PNG32,PNG24,PNG,JPG,DIB,TIFF,EMF,PS,PDF,GIF,SVG,SVGZ,BMP
Document Info:
Title: Ortofoto - 2. cyklus
Author:
Comments: <DIV STYLE="text-align:Left;font-size:12pt"><DIV><DIV><P><SPAN>20240612_v1</SPAN></P></DIV></DIV></DIV>
Subject: Podkladová mapa Ortofoto, 2. cyklus.
Category:
Keywords: ortofoto,ortofotosnímky,ortofotomozaika,2. cyklus
AntialiasingMode: Normal
TextAntialiasingMode: Force
Supports Dynamic Layers: false
Resampling: false
MaxRecordCount: 1000
MaxImageHeight: 4096
MaxImageWidth: 4096
Supported Query Formats: JSON, geoJSON, PBF
Supports Query Data Elements: true
Min Scale: 4622324.434309
Max Scale: 1128.497176
Supports Datum Transformation: true
Child Resources:
Info
Supported Operations:
Export Map
Identify
QueryLegends
QueryDomains
Find
Return Updates