View In:
ArcGIS JavaScript
ArcGIS Online Map Viewer
ArcGIS Earth
ArcGIS Pro
Service Description: Základná báza údajov pre geografický informačný systém (ZBGIS®) je súčasťou informačného systému geodézie, kartografie a katastra, ktorý tvorí a zabezpečuje Úrad geodézie kartografie a katastra SR na základe zákona č. 215/1995 Z. z. o geodézii a kartografii v znení neskorších predpisov.
ZBGIS® je priestorovou objektovo orientovanou bázou údajov, ktorá je referenčným základom národnej infraštruktúry priestorových informácií. Vytvára lokalizačný a geometrický základ pre tvorbu tematických nadstavbových geografických informačných systémov a je záväzný pre tvorbu štátnych základných a štátnych tematických mapových diel.
Účelom budovania ZBGIS® je vytvorenie základu relevantných priestorových informácií o území SR v systéme umožňujúcom ich uchovávanie, aktualizáciu, manipuláciu, analýzy a zobrazovanie.
ZBGIS® tvoria údaje a metaúdaje o priestorových objektoch krajiny, ich priestorových a tematických atribútov a vzájomných väzbách. Rozsah údajov o objektoch spravovaných v rámci ZBGIS® určuje katalóg tried objektov (KTO ZBGIS®). Vizualizácia údajov ZBGIS® je prostredníctvom mapových kompozícii dostupná vo webovej aplikácii Mapový klient ZBGIS®.
Map Name: ZBGIS
Legend
All Layers and Tables
Layers:
-
Atrakcia v zábavnom parku, akvaparku (0)
-
Brána, závora (1)
-
Brod (2)
-
Fontána (3)
-
Jaskyňa (4)
-
Komín (5)
-
Božie muky, kríž (6)
-
Neidentifikovateľné objekty (7)
-
Ostatné objekty (8)
-
Pomník (9)
-
Prameň (10)
-
Priepust (11)
-
Stĺp, stožiar elektrického vedenia (12)
-
Stĺp lanovky (13)
-
Strom (14)
-
Studňa (15)
-
Transformátor (16)
-
Veža (17)
-
Vodojem (18)
-
Vodopád (19)
-
Výšková kóta (20)
-
Železničné priecestie (21)
-
Cesta (22)
-
Chodník (23)
-
Dostihová a iné dráhy (24)
-
Elektrické vedenie (25)
-
Hať, stavidlo (26)
-
Koruna hrádze (27)
-
Lanovka, vlek (28)
-
Násyp (29)
-
Neidentifikovateľné objekty (30)
-
Opevnenie, hradba, obranný val (31)
-
Ostatné objekty (32)
-
Plavebná brána (33)
-
Plot (34)
-
Vodný tok (35)
-
Zárez (36)
-
Železnica (37)
-
Živý plot, stromoradie (38)
-
Amfiteáter (39)
-
Bazén, požiarna nádrž (40)
-
Budova (41)
-
Búda, chatrč (42)
-
Chmeľnica (43)
-
Hať, stavidlo (44)
-
Ihrisko (45)
-
Koruna hrádze (46)
-
Les (47)
-
Lúka (48)
-
Močiar, slanisko (49)
-
Most (50)
-
Nádrž plavebnej komory (51)
-
Násyp (52)
-
Neidentifikovateľné objekty (53)
-
Neúrodná pôda (54)
-
Plocha bez typického využitia (55)
-
Obilné silo, sýpka (56)
-
Opevnenie, hradba, obranný val (57)
-
Orná pôda (58)
-
Ostatné objekty (59)
-
Ovocný sad, záhrada (60)
-
Parkovisko (61)
-
Plocha letiska (62)
-
Plochy okolo líniových objektov (63)
-
Sedimentačná nádrž (64)
-
Skládka materiálu (65)
-
Stena lomu (66)
-
Strelnica (67)
-
Tank na uskladnenie kvapalín alebo plynov (68)
-
Tenisový kurt (69)
-
Tráva (70)
-
Tribúna (71)
-
Vinica (72)
-
Vodná plocha (73)
-
Plocha vodného toku (74)
-
Vodojem (75)
-
Zakryté skladisko (76)
-
Zárez (77)
-
Úžitková zeleň (78)
-
Štandardizovaný názov (79)
-
Referenčný geodetický bod (80)
-
Slovenská republika (81)
-
Kraj (82)
-
Okres (83)
-
Obec (84)
-
Vrstevnica (85)
-
Katastrálne územie (87)
-
Historický názov (98)
-
Variantný názov (99)
Tables:
Description: 20220302_v2
Copyright Text: GKÚ
Spatial Reference:
102100
(3857)
Single Fused Map Cache: true
Tile Info:
- Height: 512
- Width: 512
- DPI: 192
-
Levels of Detail: 20
-
Level ID: 0
[ Start Tile, End Tile ]
- Resolution: 78271.51696400007
- Scale: 5.91657527591555E8
-
Level ID: 1
[ Start Tile, End Tile ]
- Resolution: 39135.75848199997
- Scale: 2.95828763795777E8
-
Level ID: 2
[ Start Tile, End Tile ]
- Resolution: 19567.879241000046
- Scale: 1.47914381897889E8
-
Level ID: 3
[ Start Tile, End Tile ]
- Resolution: 9783.93962049996
- Scale: 7.3957190948944E7
-
Level ID: 4
[ Start Tile, End Tile ]
- Resolution: 4891.96981024998
- Scale: 3.6978595474472E7
-
Level ID: 5
[ Start Tile, End Tile ]
- Resolution: 2445.98490512499
- Scale: 1.8489297737236E7
- Format: MIXED
- Compression Quality: 75.0
- Origin: X: -2.0037508342787E7
Y: 2.0037508342787E7
- Spatial Reference: 102100
(3857)
Storage Info:
- Storage Format: esriMapCacheStorageModeCompactV2
- Packet Size: 128
Initial Extent:
XMin: 1910783.2887500043
YMin: 6136552.17327457
XMax: 1914245.5911742004
YMax: 6138163.653389524
Spatial Reference: 102100
(3857)
Full Extent:
XMin: 1860378.699705065
YMin: 5965454.799473455
XMax: 2523587.917899334
YMax: 6483011.298741379
Spatial Reference: 102100
(3857)
Units: esriMeters
Supported Image Format Types: PNG32,PNG24,PNG,JPG,DIB,TIFF,EMF,PS,PDF,GIF,SVG,SVGZ,BMP
Document Info:
Title: ZBGIS
Author:
Comments: 20220302_v2
Subject: Podkladová mapa ZBGIS
Category:
Keywords: ZBGIS,podkladová mapa,Základná báza údajov pre geografický informačný systém
AntialiasingMode: None
TextAntialiasingMode: Force
Supports Dynamic Layers: false
Resampling: false
MaxRecordCount: 1000
MaxImageHeight: 4096
MaxImageWidth: 4096
Supported Query Formats: JSON, geoJSON, PBF
Supports Query Data Elements: true
Min Scale: 4622324.434309
Max Scale: 1128.497176
Supports Datum Transformation: true
Child Resources:
Info
Supported Operations:
Export Map
Identify
QueryLegends
QueryDomains
Find
Return Updates